BEGIN:VCALENDAR
VERSION:2.0
PRODID:-//Énergie Citoyenne pour Saint-Junien - ECPv6.15.20//NONSGML v1.0//EN
CALSCALE:GREGORIAN
METHOD:PUBLISH
X-ORIGINAL-URL:https://www.energie-citoyenne-saint-junien.fr
X-WR-CALDESC:Évènements pour Énergie Citoyenne pour Saint-Junien
REFRESH-INTERVAL;VALUE=DURATION:PT1H
X-Robots-Tag:noindex
X-PUBLISHED-TTL:PT1H
BEGIN:VTIMEZONE
TZID:Europe/Paris
BEGIN:DAYLIGHT
TZOFFSETFROM:+0100
TZOFFSETTO:+0200
TZNAME:CEST
DTSTART:20200329T010000
END:DAYLIGHT
BEGIN:STANDARD
TZOFFSETFROM:+0200
TZOFFSETTO:+0100
TZNAME:CET
DTSTART:20201025T010000
END:STANDARD
BEGIN:DAYLIGHT
TZOFFSETFROM:+0100
TZOFFSETTO:+0200
TZNAME:CEST
DTSTART:20210328T010000
END:DAYLIGHT
BEGIN:STANDARD
TZOFFSETFROM:+0200
TZOFFSETTO:+0100
TZNAME:CET
DTSTART:20211031T010000
END:STANDARD
BEGIN:DAYLIGHT
TZOFFSETFROM:+0100
TZOFFSETTO:+0200
TZNAME:CEST
DTSTART:20220327T010000
END:DAYLIGHT
BEGIN:STANDARD
TZOFFSETFROM:+0200
TZOFFSETTO:+0100
TZNAME:CET
DTSTART:20221030T010000
END:STANDARD
END:VTIMEZONE
BEGIN:VEVENT
DTSTART;TZID=Europe/Paris:20210401T183000
DTEND;TZID=Europe/Paris:20210401T203000
DTSTAMP:20260426T025424
CREATED:20201216T102727Z
LAST-MODIFIED:20210330T042916Z
UID:2334-1617301800-1617309000@www.energie-citoyenne-saint-junien.fr
SUMMARY:Conseil Municipal
DESCRIPTION:Ordre du jour : \n\n\nFixation des taux d’imposition / Exercice 2021 \n\n\nBudget Primitif 2020 – Budget Communal \n\nBudget Primitif 2020 – Budget Camping\nBudget Primitif 2020 – Budget lotissements communaux\nBudget Primitif 2020 – Pompes Funèbres\nBudget primitif 2020 – Energie photovoltaïque\nValidation du rapport de la commission locale des charges transférées (CLECT) du 29 mars 2021\nModalités de versement de la subvention au CCAS / Exercice 2021\nValidation de la convention avec l’ASSJ Omnisports\nCession Commune – SCI OZPINAR Gestion Chez Jouy DZ n° 80\nCession Commune – BOUNY Jérôme – Rue de Nontron – AH n° 247\nCession Commune – SCI Immobilière Nontron – Rue de Nontron – AH n° 246\nCréation d’un potager en régie communale – Demande de subventions au département au titre du contrat départemental de développement intercommunal (CDDI)\nDemandes de subventions au Département dans le cadre des CTD 2021\nProjets de travaux dans le cadre du programme d’amélioration du cadre bâti du patrimoine communal\nDemande de subventions au titre de la dotation d’équipement des territoires ruraux (DETR)\nTableau des emplois au 1er mai 2021\nFourniture et livraison de repas à la commune de Chaillac sur Vienne\nDécisions du Maire\n\n 
URL:https://www.energie-citoyenne-saint-junien.fr/evenement/conseil-municipal-8/
END:VEVENT
END:VCALENDAR