BEGIN:VCALENDAR
VERSION:2.0
PRODID:-//Énergie Citoyenne pour Saint-Junien - ECPv6.15.20//NONSGML v1.0//EN
CALSCALE:GREGORIAN
METHOD:PUBLISH
X-WR-CALNAME:Énergie Citoyenne pour Saint-Junien
X-ORIGINAL-URL:https://www.energie-citoyenne-saint-junien.fr
X-WR-CALDESC:Évènements pour Énergie Citoyenne pour Saint-Junien
REFRESH-INTERVAL;VALUE=DURATION:PT1H
X-Robots-Tag:noindex
X-PUBLISHED-TTL:PT1H
BEGIN:VTIMEZONE
TZID:Europe/Paris
BEGIN:DAYLIGHT
TZOFFSETFROM:+0100
TZOFFSETTO:+0200
TZNAME:CEST
DTSTART:20190331T010000
END:DAYLIGHT
BEGIN:STANDARD
TZOFFSETFROM:+0200
TZOFFSETTO:+0100
TZNAME:CET
DTSTART:20191027T010000
END:STANDARD
BEGIN:DAYLIGHT
TZOFFSETFROM:+0100
TZOFFSETTO:+0200
TZNAME:CEST
DTSTART:20200329T010000
END:DAYLIGHT
BEGIN:STANDARD
TZOFFSETFROM:+0200
TZOFFSETTO:+0100
TZNAME:CET
DTSTART:20201025T010000
END:STANDARD
BEGIN:DAYLIGHT
TZOFFSETFROM:+0100
TZOFFSETTO:+0200
TZNAME:CEST
DTSTART:20210328T010000
END:DAYLIGHT
BEGIN:STANDARD
TZOFFSETFROM:+0200
TZOFFSETTO:+0100
TZNAME:CET
DTSTART:20211031T010000
END:STANDARD
END:VTIMEZONE
BEGIN:VEVENT
DTSTART;TZID=Europe/Paris:20201215T180000
DTEND;TZID=Europe/Paris:20201215T200000
DTSTAMP:20260425T172226
CREATED:20201214T092118Z
LAST-MODIFIED:20201214T092118Z
UID:2323-1608055200-1608062400@www.energie-citoyenne-saint-junien.fr
SUMMARY:Commission Politique évènementielle et Patrimoine
DESCRIPTION:Réunion de la commission\, chargée de la politique évènementielle\, de l’identité patrimoniale et du devoir de mémoire \nL’ordre du jour sera le suivant : \n– Sélection des spectacles pour la saison 2021 de Rendez-vous en Terrasses\n– Questions diverses
URL:https://www.energie-citoyenne-saint-junien.fr/evenement/commission-politique-evenementielle-et-patrimoine-3/
LOCATION:Salle du Conseil Municipal\, 2 place auguste Roche\, Saint-Junien\, 87200\, France
END:VEVENT
END:VCALENDAR