BEGIN:VCALENDAR
VERSION:2.0
PRODID:-//Énergie Citoyenne pour Saint-Junien - ECPv6.15.20//NONSGML v1.0//EN
CALSCALE:GREGORIAN
METHOD:PUBLISH
X-WR-CALNAME:Énergie Citoyenne pour Saint-Junien
X-ORIGINAL-URL:https://www.energie-citoyenne-saint-junien.fr
X-WR-CALDESC:Évènements pour Énergie Citoyenne pour Saint-Junien
REFRESH-INTERVAL;VALUE=DURATION:PT1H
X-Robots-Tag:noindex
X-PUBLISHED-TTL:PT1H
BEGIN:VTIMEZONE
TZID:Europe/Paris
BEGIN:DAYLIGHT
TZOFFSETFROM:+0100
TZOFFSETTO:+0200
TZNAME:CEST
DTSTART:20190331T010000
END:DAYLIGHT
BEGIN:STANDARD
TZOFFSETFROM:+0200
TZOFFSETTO:+0100
TZNAME:CET
DTSTART:20191027T010000
END:STANDARD
BEGIN:DAYLIGHT
TZOFFSETFROM:+0100
TZOFFSETTO:+0200
TZNAME:CEST
DTSTART:20200329T010000
END:DAYLIGHT
BEGIN:STANDARD
TZOFFSETFROM:+0200
TZOFFSETTO:+0100
TZNAME:CET
DTSTART:20201025T010000
END:STANDARD
BEGIN:DAYLIGHT
TZOFFSETFROM:+0100
TZOFFSETTO:+0200
TZNAME:CEST
DTSTART:20210328T010000
END:DAYLIGHT
BEGIN:STANDARD
TZOFFSETFROM:+0200
TZOFFSETTO:+0100
TZNAME:CET
DTSTART:20211031T010000
END:STANDARD
END:VTIMEZONE
BEGIN:VEVENT
DTSTART;TZID=Europe/Paris:20201210T183000
DTEND;TZID=Europe/Paris:20201210T203000
DTSTAMP:20260425T153636
CREATED:20201205T140742Z
LAST-MODIFIED:20201205T140742Z
UID:2268-1607625000-1607632200@www.energie-citoyenne-saint-junien.fr
SUMMARY:Conseil Municipal
DESCRIPTION:Acquisition de parcelles à la SAS Sojudis — avenue d’Oradour sur Glane et rue Robert Doisneau\nAutorisation d’engager\, de liquider et de mandater les dépenses d’investissement avant le vote du budget primitif 2021\nLignes directrices de gestion\nModification des règles d’application du Compte Épargne Temps\nRégime indemnitaire tenant compte des fonctions\, de l’expertise et de l’engagement professionnel (RIF SEEP)\nTableau des emplois au 1er janvier 2021\nRevalorisation des loyers d’habitation – 1er janvier 2021\nRevalorisation des redevances de TDF\, Scandere et Lavaurs à compter du 1er janvier 2021\nAvenant n°13 de la société Towercast portant revalorisation de la redevance à compter du 1″ janvier 2021\nRecueil des tarifs 2021 de la ville de Saint-Junien\nAide communale environnementale aux particuliers pour la destruction de nids de frelons asiatiques\nValidation de la demande de subvention de l’OCCE 87 École de la République\nRemerciements\nDécisions du Maire\n\n 
URL:https://www.energie-citoyenne-saint-junien.fr/evenement/conseil-municipal-5/
LOCATION:Salle du Châtelard
END:VEVENT
END:VCALENDAR