BEGIN:VCALENDAR
VERSION:2.0
PRODID:-//Énergie Citoyenne pour Saint-Junien - ECPv6.15.20//NONSGML v1.0//EN
CALSCALE:GREGORIAN
METHOD:PUBLISH
X-ORIGINAL-URL:https://www.energie-citoyenne-saint-junien.fr
X-WR-CALDESC:Évènements pour Énergie Citoyenne pour Saint-Junien
REFRESH-INTERVAL;VALUE=DURATION:PT1H
X-Robots-Tag:noindex
X-PUBLISHED-TTL:PT1H
BEGIN:VTIMEZONE
TZID:Europe/Paris
BEGIN:DAYLIGHT
TZOFFSETFROM:+0100
TZOFFSETTO:+0200
TZNAME:CEST
DTSTART:20190331T010000
END:DAYLIGHT
BEGIN:STANDARD
TZOFFSETFROM:+0200
TZOFFSETTO:+0100
TZNAME:CET
DTSTART:20191027T010000
END:STANDARD
BEGIN:DAYLIGHT
TZOFFSETFROM:+0100
TZOFFSETTO:+0200
TZNAME:CEST
DTSTART:20200329T010000
END:DAYLIGHT
BEGIN:STANDARD
TZOFFSETFROM:+0200
TZOFFSETTO:+0100
TZNAME:CET
DTSTART:20201025T010000
END:STANDARD
BEGIN:DAYLIGHT
TZOFFSETFROM:+0100
TZOFFSETTO:+0200
TZNAME:CEST
DTSTART:20210328T010000
END:DAYLIGHT
BEGIN:STANDARD
TZOFFSETFROM:+0200
TZOFFSETTO:+0100
TZNAME:CET
DTSTART:20211031T010000
END:STANDARD
END:VTIMEZONE
BEGIN:VEVENT
DTSTART;TZID=Europe/Paris:20201203T180000
DTEND;TZID=Europe/Paris:20201203T180000
DTSTAMP:20260425T153847
CREATED:20201119T144720Z
LAST-MODIFIED:20201119T144720Z
UID:2248-1607018400-1607018400@www.energie-citoyenne-saint-junien.fr
SUMMARY:Commission Communale pour l'Accessibilité des Personnes handicapées
DESCRIPTION:L’ordre du jour sera le suivant : \n\nPrésentation du rapport 2018-2019\nProjet 2021-2022\nQuestions diverses
URL:https://www.energie-citoyenne-saint-junien.fr/evenement/commission-communale-pour-laccessibilite-des-personnes-handicapees/
LOCATION:Salle Amédée Burbaud
END:VEVENT
END:VCALENDAR